BEGIN:VCALENDAR
VERSION:2.0
PRODID:-//Rozentals-seura ry. - ECPv5.2.1//NONSGML v1.0//EN
CALSCALE:GREGORIAN
METHOD:PUBLISH
X-WR-CALNAME:Rozentals-seura ry.
X-ORIGINAL-URL:https://uusi.rozentals-seura.fi
X-WR-CALDESC:Tapahtumat Rozentals-seura ry.
BEGIN:VTIMEZONE
TZID:UTC
BEGIN:STANDARD
TZOFFSETFROM:+0000
TZOFFSETTO:+0000
TZNAME:UTC
DTSTART:20190101T000000
END:STANDARD
END:VTIMEZONE
BEGIN:VEVENT
DTSTART;TZID=UTC:20191004T100000
DTEND;TZID=UTC:20191006T170000
DTSTAMP:20260417T225941
CREATED:20190821T102212Z
LAST-MODIFIED:20190821T102212Z
UID:1776-1570183200-1570381200@uusi.rozentals-seura.fi
SUMMARY:Turun kirjamessut
DESCRIPTION:Seura osallistuu Turun kirjamessuille yhdessä Latvian suurlähetystön\, Latvian Literaturen sekä Paperiporo- ja Arktinen banaani -kustantamojen kanssa. \nKirjailijat Atis Klimovicš\, Inese Zandere ja Māra Zālīte esiintyvät messuilla su klo 15.40-16.20. Heitä haastattelee Heli Laaksonen.
URL:https://uusi.rozentals-seura.fi/kalenteri/turun-kirjamessut/
END:VEVENT
END:VCALENDAR