BEGIN:VCALENDAR
VERSION:2.0
PRODID:-//Rozentals-seura ry. - ECPv5.2.1//NONSGML v1.0//EN
CALSCALE:GREGORIAN
METHOD:PUBLISH
X-WR-CALNAME:Rozentals-seura ry.
X-ORIGINAL-URL:https://uusi.rozentals-seura.fi
X-WR-CALDESC:Tapahtumat Rozentals-seura ry.
BEGIN:VTIMEZONE
TZID:UTC
BEGIN:STANDARD
TZOFFSETFROM:+0000
TZOFFSETTO:+0000
TZNAME:UTC
DTSTART:20200101T000000
END:STANDARD
END:VTIMEZONE
BEGIN:VEVENT
DTSTART;TZID=UTC:20200926T100000
DTEND;TZID=UTC:20200926T170000
DTSTAMP:20260421T081051
CREATED:20200911T084449Z
LAST-MODIFIED:20200911T084449Z
UID:2241-1601114400-1601139600@uusi.rozentals-seura.fi
SUMMARY:Jäsenretki Fiskarsiin
DESCRIPTION:
URL:https://uusi.rozentals-seura.fi/kalenteri/jasenretki-fiskarsiin-2/
END:VEVENT
END:VCALENDAR